BEGIN:VCALENDAR
VERSION:2.0
PRODID:-//Intelisys - ECPv4.6.19//NONSGML v1.0//EN
CALSCALE:GREGORIAN
METHOD:PUBLISH
X-WR-CALNAME:Intelisys
X-ORIGINAL-URL:https://www.intelisys.com
X-WR-CALDESC:Events for Intelisys
BEGIN:VEVENT
DTSTART;TZID=UTC-7:20180628T110000
DTEND;TZID=UTC-7:20180628T170000
DTSTAMP:20180623T101654
CREATED:20180521T220447Z
LAST-MODIFIED:20180521T220447Z
UID:12067-1530183600-1530205200@www.intelisys.com
SUMMARY:Bridging of the Bay: Tech Summit
DESCRIPTION: \n
URL:https://www.intelisys.com/event/bridging-of-the-bay-tech-summit/
LOCATION:202 Country Club Drive\, Hayward\, CA\, 94542\, United States
END:VEVENT
END:VCALENDAR